BEGIN:VCALENDAR
VERSION:2.0
PRODID:-//Moonalice Posters - ECPv6.15.20//NONSGML v1.0//EN
CALSCALE:GREGORIAN
METHOD:PUBLISH
X-WR-CALNAME:Moonalice Posters
X-ORIGINAL-URL:https://moonaliceposters.com
X-WR-CALDESC:Events for Moonalice Posters
REFRESH-INTERVAL;VALUE=DURATION:PT1H
X-Robots-Tag:noindex
X-PUBLISHED-TTL:PT1H
BEGIN:VTIMEZONE
TZID:America/Los_Angeles
BEGIN:DAYLIGHT
TZOFFSETFROM:-0800
TZOFFSETTO:-0700
TZNAME:PDT
DTSTART:20170312T100000
END:DAYLIGHT
BEGIN:STANDARD
TZOFFSETFROM:-0700
TZOFFSETTO:-0800
TZNAME:PST
DTSTART:20171105T090000
END:STANDARD
BEGIN:DAYLIGHT
TZOFFSETFROM:-0800
TZOFFSETTO:-0700
TZNAME:PDT
DTSTART:20180311T100000
END:DAYLIGHT
BEGIN:STANDARD
TZOFFSETFROM:-0700
TZOFFSETTO:-0800
TZNAME:PST
DTSTART:20181104T090000
END:STANDARD
BEGIN:DAYLIGHT
TZOFFSETFROM:-0800
TZOFFSETTO:-0700
TZNAME:PDT
DTSTART:20190310T100000
END:DAYLIGHT
BEGIN:STANDARD
TZOFFSETFROM:-0700
TZOFFSETTO:-0800
TZNAME:PST
DTSTART:20191103T090000
END:STANDARD
BEGIN:DAYLIGHT
TZOFFSETFROM:-0800
TZOFFSETTO:-0700
TZNAME:PDT
DTSTART:20200308T100000
END:DAYLIGHT
BEGIN:STANDARD
TZOFFSETFROM:-0700
TZOFFSETTO:-0800
TZNAME:PST
DTSTART:20201101T090000
END:STANDARD
END:VTIMEZONE
BEGIN:VEVENT
DTSTART;TZID=America/Los_Angeles:20190729T120000
DTEND;TZID=America/Los_Angeles:20190729T180000
DTSTAMP:20260422T074356
CREATED:20190720T204023Z
LAST-MODIFIED:20190730T212638Z
UID:26016-1564401600-1564423200@moonaliceposters.com
SUMMARY:Pearl Jam: Live in Two Dimensions at Haight Street Art Center
DESCRIPTION:This is an extensive exhibition of Pearl Jam gig posters. Covering the entire official Pearl Jam poster series from its origins\, development and eventual growth into one of rock’s most remarkable achievements in graphic art\, this show will serve hardcore poster collectors\, casual fans and the general public alike. \n\n\n\nThis exhibition will be free and open to the public from July 27 through September 2019. \n\n\n\n\n\n\n\n\n\nThe Haight Street Art Center is a nonprofit artist print studio and gallery founded two years ago to celebrate and extend the poster art movement that began within the San Francisco Dance/Concert scene of the 1960s. PEARL JAM: LIVE IN TWO DIMENSIONS is Haight Street Art Center’s first exhibit focused on posters created on behalf of one specific artist.
URL:https://moonaliceposters.com/event/opening-reception-for-pearl-jam-live-in-two-dimensions-at-haight-street-art-center/
LOCATION:Haight Street Art Center\, San Francisco\, CA\, 215 Haight St\, San Francisco\, CA\, 94102\, United States
CATEGORIES:Art
ATTACH;FMTTYPE=image/jpeg:https://moonaliceposters.com/wp-content/uploads/2019/07/2019-07-27-hsac-pearljam-opening.jpg
END:VEVENT
BEGIN:VEVENT
DTSTART;TZID=America/Los_Angeles:20190727T120000
DTEND;TZID=America/Los_Angeles:20190929T180000
DTSTAMP:20260422T074356
CREATED:20190815T001814Z
LAST-MODIFIED:20190815T002643Z
UID:26207-1564228800-1569780000@moonaliceposters.com
SUMMARY:Haight Street Art Center presents Pearl Jam: Live in Two Dimensions
DESCRIPTION:PEARL JAM: LIVE IN TWO DIMENSIONS is an extensive exhibition of Pearl Jam gig posters. Covering the entire official Pearl Jam poster series from its origins\, development and eventual growth into one of rock’s most remarkable achievements in graphic art\, this show will serve hardcore poster collectors\, casual fans and the general public alike. \n\n\n\nThis exhibition is FREE and open to the public from July 27 through September 2019. \n\n\n\nGallery Hours:Wednesday through Sunday: 12:00 Noon to 6:00pmMonday & Tuesday: Closed \n\n\n\nhaightstreetart.org\n\n\n\nThe Haight Street Art Center is a nonprofit artist print studio and gallery founded two years ago to celebrate and extend the poster art movement that began within the San Francisco Dance/Concert scene of the 1960s. PEARL JAM: LIVE IN TWO DIMENSIONS is Haight Street Art Center’s first exhibit focused on posters created on behalf of one specific band. \n\n\n\nhaightstreetart.org\n\n\n\n\n\n\n\n\n\n\n\nSocial Media Pro Tip: Please use the hashtag: #PJin2D \n\n\n\n\n\n\n        View this post on Instagram            A post shared by Haight Street Art Center (@haightstreetart) \n\n\n\n\n\n\n\n        View this post on Instagram            A post shared by Haight Street Art Center (@haightstreetart)
URL:https://moonaliceposters.com/event/haight-street-art-center-presents-pearl-jam-live-in-two-dimensions/
LOCATION:Haight Street Art Center\, San Francisco\, CA\, 215 Haight St\, San Francisco\, CA\, 94102\, United States
CATEGORIES:Art
ATTACH;FMTTYPE=image/jpeg:https://moonaliceposters.com/wp-content/uploads/2019/08/2019-hsac-pearl-jam-live-two-dimensions.jpg
END:VEVENT
BEGIN:VEVENT
DTSTART;TZID=America/Los_Angeles:20190419T180000
DTEND;TZID=America/Los_Angeles:20190419T203000
DTSTAMP:20260422T074356
CREATED:20190412T171337Z
LAST-MODIFIED:20190412T171340Z
UID:25515-1555696800-1555705800@moonaliceposters.com
SUMMARY:Grande Ballroom From Detroit With Love Special Event
DESCRIPTION:Enjoy a glass of wine or beer viewing FROM DETROIT WITH LOVE\, the definitive comprehensive poster\, handbill and postcard collection from Russ Gibb’s legendary Grande Ballroom. This stellar exhibit is a must see for all poster fans.The Gary Grimshaw Legacy Foundation will release its new Limited Edition screen print of Gary’s iconic SEAGULL\, the poster that launched the Grande Ballroom poster series. All attendees will be entered in a raffle to win a free copy of this meticulously enhanced print. Copies will be on sale onsite and online starting at 6:00PM on April 19.7:00pm\, Guest Panel Discussion—Join GGLF’s Laura Grimshaw as she moderates the discussion. On the panel are activist and photographer Leni Sinclair\, Detroit artists Carl Lundgren and Dennis Loren\, poster expert Eric King and others. They will discuss the Grande\, Detroit’s 60’s art scene\, and its part in the City’s countercultural movement.\n\n\n\nAdmission to this free event includes one drink ticket and a chance to win a special limited edition screen print of Gary Grimshaw’s SEAGULL design \n\n\n\nArtwork by Gary Grimshaw\, 1966. Printed at Haight Street Art Center\, 2019. Signed and certified by Laura Grimshaw.
URL:https://moonaliceposters.com/event/grande-ballroom-from-detroit-with-love-special-event/
LOCATION:Haight Street Art Center\, San Francisco\, CA\, 215 Haight St\, San Francisco\, CA\, 94102\, United States
CATEGORIES:Art
ATTACH;FMTTYPE=image/jpeg:https://moonaliceposters.com/wp-content/uploads/2019/04/20180419-hsac-grande-ballroom.jpg
ORGANIZER;CN="Moonalice":MAILTO:management@moonalice.com
END:VEVENT
BEGIN:VEVENT
DTSTART;TZID=America/Los_Angeles:20190329T180000
DTEND;TZID=America/Los_Angeles:20190427T160000
DTSTAMP:20260422T074356
CREATED:20190329T193023Z
LAST-MODIFIED:20190329T225907Z
UID:25412-1553882400-1556380800@moonaliceposters.com
SUMMARY:From Detroit With Love
DESCRIPTION:Grande Ballroom Poster Exhibition\n\n\n\n\n\n\n\n\n\nOpening reception for “From Detroit with Love: Grande Ballroom Poster Exhibition.” Free admission. One free drink ticket will be available for each guest. \n\n\n\nTake a trip back to the 60s in this exhibition of psychedelic posters from Detroit’s Grande Ballroom. This legendary venue drew its inspiration from the San Francisco style. \n\n\n\n\n\n\n\n\n\n\n\n\n\n\n\n\n\n\n\nPoster by Carl Lundgren \n\n\n\n\n\n\n\n\n\nPoster by Gary Grimshaw
URL:https://moonaliceposters.com/event/from-detroit-with-love/
LOCATION:Haight Street Art Center\, San Francisco\, CA\, 215 Haight St\, San Francisco\, CA\, 94102\, United States
CATEGORIES:Art
ATTACH;FMTTYPE=image/jpeg:https://moonaliceposters.com/wp-content/uploads/2019/03/201903-hsac-grande-ballroom-header.jpg
END:VEVENT
BEGIN:VEVENT
DTSTART;TZID=America/Los_Angeles:20181117T190000
DTEND;TZID=America/Los_Angeles:20181214T220000
DTSTAMP:20260422T074356
CREATED:20181024T091537Z
LAST-MODIFIED:20181120T005027Z
UID:24824-1542481200-1544824800@moonaliceposters.com
SUMMARY:Cannabis Americanna: The High Art of Pat Ryan
DESCRIPTION:Cannabis Americanna “HIGH ART” 🌿 The Greatest Hits of Pat Ryan 💨\nOpening Saturday\, November 17th – 7-10pm \nYou Must Be 21+ To Attend These Events – Please Have ID Available At The Door To Enter \nwww.cannabisamericanna2018.com \nBabylon Burnin’ Red Hot art by Pat Ryan\, © 1988  \nPat Ryan\nPat Ryan has a long history as one of the premier creators of rock posters\, underground art\, and American Indian historical paintings throughout his career. His bio is quite impressive\, and speaks of his character and talents. Pat was one of the original Artista Gang in Marin County\, and has created well over 100 posters for various musical venues and festivals. He is currently part of a group of exhibiting artists at T.R.P.S. (The Rock Poster Society) annual poster shows\, where you work can be seen and purchased. \nPat lives in Rohnert Park\, in Sonoma County\, with his wife of 50+ years\, soul singer Cyretta. Their children and grandchildren live nearby\, and are very much part of his art. Pat is currently working on another in his series of Indian paintings\, and has several patrons who believe in his work and have helped him over the years to continue his dream. \nSee more at pat-ryan-art.com\n \n\n   \n\n\n\n\n\n\n\n\n\n\nView this post on Instagram\n\n\n\n\n\n\n\n\n\n\n\n\n\n\n\n\n\n\n\n\n\n\n \nA post shared by Cannabis Americanna (@cannabisamericanna)
URL:https://moonaliceposters.com/event/cannabis-americanna-the-high-art-of-pat-ryan/
LOCATION:The Rising Sun Barn\, Telford\, PA\, 898 Allentown Rd\, Telford\, CA\, 18969\, United States
CATEGORIES:Art
ATTACH;FMTTYPE=image/jpeg:https://moonaliceposters.com/wp-content/uploads/2018/10/20181114-cannabis-americanna-pat-ryan.jpg
ORGANIZER;CN="Agent Ink Gallery":MAILTO:info@agentinkgallery.com
END:VEVENT
BEGIN:VEVENT
DTSTART;TZID=America/Los_Angeles:20181106T120000
DTEND;TZID=America/Los_Angeles:20190120T200000
DTSTAMP:20260422T074356
CREATED:20181024T101727Z
LAST-MODIFIED:20181120T015901Z
UID:24832-1541505600-1548014400@moonaliceposters.com
SUMMARY:Haight Street Art Center Presents in San Francisco Ralph Steadman: A Retrospective
DESCRIPTION:Opening November 6\, 2018\nThe Ralph Steadman Retrospective offers phenomenal insights into the genius of one of the world’s most acclaimed artists. Experiencing the 108 original artworks included in this exhibition will take the viewer on a journey through Steadman’s prolific career of more than sixty years; from the sketches he created as a student in the 1950’s to current artworks published in 2017. \nThe Retrospective showcases Steadman’s legendary collaborations with maverick Gonzo journalist\, Hunter S. Thompson; his illustrated literary classics such as Alice in Wonderland\, Treasure Island; and the inventive books he authored such as I Leonardo and The Big I Am. There are also illustrations from his children’s books\, which include No Room to Swing a Cat and That’s My Dad; plus artworks from his travels with Oddbins Wine Merchants. Also\, featured is Steadman’s box set artwork inspired by the series Breaking Bad. While still contributing regularly to publications such as The New Statesman\, The New Yorker\, the New York Observer\, and The Independent\, last year Ralph Steadman celebrated the release of his most recent book Critical Critters\, featuring 100 new paintings. \nThroughout his working life\, Steadman has strived in his cartoons and artworks to affect and challenge humanity\, generate a dialogue\, and be a voice to rally for truth and positive change. Steadman’s art is brave\, intelligent\, and unrelenting. The exhibition will amaze and inspire both the uninitiated and his most die-hard fans. As Thompson advised in the Steadman illustrated Fear and Loathing in Las Vegas\, “buy the ticket\, take the ride.” \nAudio Guide\nAccompanying the Retrospective is a fascinating audio guide created by Audible and featuring the voices of Ralph Steadman himself\, Anita o’Brien\, the original curator of the show and Tim Robbins\, friend and fan. Take a tour of the exhibition with Ralph at your shoulder giving you his own thoughts and insights about some of the pieces on show\, as well as an immersive Gonzo Experience with Tim Robbins. Text STEADMAN to 500-500 to download or click on the image to go to the Apple App Store. \nDownload iOS Audio
URL:https://moonaliceposters.com/event/haight-street-art-center-presents-in-san-francisco-ralph-steadman-a-retrospective/
LOCATION:Haight Street Art Center\, San Francisco\, CA\, 215 Haight St\, San Francisco\, CA\, 94102\, United States
CATEGORIES:Art
ATTACH;FMTTYPE=image/jpeg:https://moonaliceposters.com/wp-content/uploads/2018/10/steadman-hsac-banner.jpg
ORGANIZER;CN="Moonalice":MAILTO:management@moonalice.com
END:VEVENT
BEGIN:VEVENT
DTSTART;TZID=America/Los_Angeles:20181020T100000
DTEND;TZID=America/Los_Angeles:20181020T180000
DTSTAMP:20260422T074356
CREATED:20181003T175753Z
LAST-MODIFIED:20181003T180113Z
UID:24707-1540029600-1540058400@moonaliceposters.com
SUMMARY:TRPS Festival of Rock Posters 2018\, San Francisco
DESCRIPTION:The Rock Poster Society Presents in San Francisco TRPS Festival of Rock Posters 2018 with:\nBilly Perkins\nChuck Sperry\nStanley Mouse\nLee Conklin\nEmek\nMark Arminski\nVictor Moscoso\nMarq Spusta\nJustin Hampton\nCollectionzz\nDavid Byrd\nHakes Americana\nJim Mazza\nMike Dubois\nGolden Road Gallery\nChris Shaw\nAlexandra Fischer\nYasunori Ninomiya\nRandy Chavez\nCarolyn Ferris\nNorman Orr\nClassic Posters\nPaul Getchell\nRick Savel\nPerry Pfeffer\nSF Rockposters\nTea Lautrec Litho\nJohn Howard\nMatt Leunig\nAgent Ink Gallery\nSecret Serpents\nLarry Freeman\nJohn Frankel\nJohn Seabury\nGary Houston\nDavid Singer\nRandy Tuten\nGregg Gordon\nBill Graham Memorial Foundation\nPsychedelic Art Exchange\nReggie Williams\nBill Ham\nPeter Albin and Dave Getz\nD. King Gallery\nSal Dichiera\nEric King\nKris Mikkelson\nCliff Yamasaki\nJohn Bellas\nSherwood Donahue\nWayne Espinosa \nAdmission Prices\n10:00 am – 10:59 am Admission during the first hour is $20 for non-TRPS members or $5 for TRPS members\, but your membership needs to be current. Please bring your card to show at the door. If your membership has expired\, or if you decide to join at the TRPS booth after entry during the first hour\, you will get a refund of $15 off the cost of the $30 membership.\n11:00 am – 2:59pm Admission is $10 for non-TRPS members and $5 for TRPS members. If your membership has expired\, or if you decide to join at the TRPS booth after entry between 11 and 3\, you will get a refund of $5 off the cost of the $30 membership.\n3:00 pm – 6:00 pm Admission is FREE to all. \nMore information at:\nTRPS.org
URL:https://moonaliceposters.com/event/trps-festival-of-rock-posters-2018-san-francisco/
LOCATION:Hall of Flowers\, San Francisco\,  CA\, 1199 9th A\, San Francisco\, CA\, 94122\, United States
CATEGORIES:Art
ATTACH;FMTTYPE=image/jpeg:https://moonaliceposters.com/wp-content/uploads/2018/10/trps-forp18-monkeyink-john-howard.jpg
ORGANIZER;CN="The Rock Poster Society":MAILTO:trpsorg@gmail.com
END:VEVENT
BEGIN:VEVENT
DTSTART;TZID=America/Los_Angeles:20181013T140000
DTEND;TZID=America/Los_Angeles:20181013T220000
DTSTAMP:20260422T074356
CREATED:20181002T214943Z
LAST-MODIFIED:20181003T174737Z
UID:24704-1539439200-1539468000@moonaliceposters.com
SUMMARY:Grand Opening Carolyn Ferris Art Studio
DESCRIPTION:Carolyn Ferris Art Studio\, a design studio by day and art classes by night and weekends\, will hold its Grand Opening on Saturday\, October 13. Festivities begin at 2 PM at 2000 Sir Francis Drake Blvd. in downtown Fairfax. Free food and refreshments will be provided. A free art poster will also be given to all who attend the Grand Opening. A special musical performance will be provided by Roger McNamee\, singer and guitarist with the Bay Area’s renowned Moonalice. \nThe new studio is filled with Carolyn’s eye-popping\, highly-acclaimed rock posters\, created with a contemporary flair after the revolutionary style of the 1960s psychedelic era. Original art work will be on display\, and an opportunity register for fall classes will also be available. \nA Fairfax resident most of her adult life\, Carolyn took off to Missouri a few years ago to become art partners with legendary artist\, Wes Wilson. Wes retired this year and Carolyn’s found her way back to Fairfax. She had created well over 100 posters\, many for the local band Moonalice and Roger McNamee. She has also created poster art for Widespread Panic\, Santana\, the Fillmore and the Warfield\, and for events such as a party at the DeYoung Museum for 23andMe. She welcomes bands\, event coordinators\, and/or other unique businesses to contact her with interesting design projects. \nArt teachers Melusina Gomez\, MFA and Quinne Fokes\, MFA will run classes at Carolyn Ferris Art Studio in mask making\, drawing\, painting fundamentals\, and mixed media\, serving ages 6 to adult/senior. Fall courses are 8 weeks. An ongoing live nude model night will be held each Tuesday. Register for classes now and get an early bird special. Call or register online at: www.CarolynFerris.com
URL:https://moonaliceposters.com/event/grand-opening-carolyn-ferris-art-studio/
LOCATION:Carolyn Ferris Art Studio\, Fairfax\, CA\, 2000 Sir Francis Drake Boulevard\, Fairfax\, CA\, 94930\, United States
CATEGORIES:Art,Roger McNamee Solo
ATTACH;FMTTYPE=image/jpeg:https://moonaliceposters.com/wp-content/uploads/2018/10/carolyn-ferris-art-studio.jpg
ORGANIZER;CN="Carolyn Ferris Art Studio":MAILTO:C@CarolynFerris.com
END:VEVENT
BEGIN:VEVENT
DTSTART;TZID=America/Los_Angeles:20180928T080000
DTEND;TZID=America/Los_Angeles:20180928T170000
DTSTAMP:20260422T074356
CREATED:20180928T170933Z
LAST-MODIFIED:20180928T171008Z
UID:24683-1538121600-1538154000@moonaliceposters.com
SUMMARY:Faction Brewing Turns 5
DESCRIPTION:Faction Brewing is turning 5 and throwing a rager this Saturday\, September 29\, 2018! There will be no charge to hang out on the patio and in the tasting room\, but if you want to see the show held inside the warehouse\, tickets wil be $20 at the door (No advanced sales). \nFaction is expecting alarge crowd for this show\, and capacity is limited so come early – they will be cutting off ticket sales once capacity is reached.\n \nMoonalice Art Director Chris Shaw designed some Anniversary T-Shirts that will be for sale with LIVE screen printing by Thread Monster from 4:00-8:00pm. Limited amount of pre-printed shirts available for sale before 4pm.\n \nFood Options\nFood Trucks include Sip n Slide\, Scolari’s\, and a special gourmet sandwich menu from Pacific Fine Foods! \nKids Corner\nOut on the patio\, will include tons of sidewalk chalk\, bubbles\, more cornhole\, and GIANT Connect 4 games for the kids! \nMore info at:\nFationBrewing.com \n\n   \n\n\n\n\n\n\n\n\n\n\nView this post on Instagram\n\n\n\n\n\n\n\n\n\n\n\n\n\n\n\n\n\n\n\n\n\n\n \nA post shared by Faction Brewing (@factionbrewing)
URL:https://moonaliceposters.com/event/faction-brewing-turns-5/
LOCATION:Faction Brewing\, Alameda\, CA\, 2501 Monarch St\, Alameda\, CA\, 94501\, United States
CATEGORIES:Art
ATTACH;FMTTYPE=image/jpeg:https://moonaliceposters.com/wp-content/uploads/2018/09/faction-5-year.jpg
ORGANIZER;CN="Moonalice":MAILTO:management@moonalice.com
END:VEVENT
BEGIN:VEVENT
DTSTART;VALUE=DATE:20180915
DTEND;VALUE=DATE:20181220
DTSTAMP:20260422T074356
CREATED:20180725T203453Z
LAST-MODIFIED:20180926T162844Z
UID:24511-1536969600-1545263999@moonaliceposters.com
SUMMARY:All Access: Exploring Humanism in the Art of Chuck Sperry
DESCRIPTION:All Access: Exploring Humanism in the Art of Chuck Sperry\nSeptember 15 – December 9\, 2018 \nThe Fort Wayne Museum of Art is pleased to celebrate Chuck Sperry’s first museum solo exhibition. Sperry has been preeminent in the rock poster genre since the late 1990s and has largely defined the genre in each decade since with his distinctive style and masterful printing technique. \nSperry has drawn inspiration for this work from the classical Greco-Roman idea of the muses\, and their metaphorical home on Mount Helikon — the source of inspiration for all things art and music. Naiads\, nymphs and muses in their richly patterned floral settings make their way into Sperry’s work. Dripping with brightly colored flowers\, decked in gold and silver textures\, Sperry’s blue-silver muses sing a paean to the long tradition of humanism reactivated in the struggle for social progress\, universal human rights\, a more perfect democracy and the utopian ideals of the Haight-Ashbury neighborhood of San Francisco where Sperry has made his home since 1989. \nSymbolism\, Secession\, ukiyo-e\, and psychedelia blend in Sperry’s flattened\, post-modern figurative art: all potent ingredients Sperry strives self-consciously to re-evaluate for the 21st Century. \nThe exhibit will feature 2 large scale tapestries designed by Sperry\, 25 screen prints on oak panel\, original ink drawings\, and ephemeral color progressives which illuminate Sperry’s unique printing process. \nThis exhibition is organized by the Fort Wayne Museum of Art and its Curator of Contemporary Art Josef Zimmerman. \nExhibition Opening Party: September 14\, 6-9pm\nCelebrate opening weekend of this exhibit and Litmus Test: Works on Paper from the Psychedelic Era with live music\, cash bar\, appetizers\, and face time with the one and only Chuck Sperry! \nRead More
URL:https://moonaliceposters.com/event/all-access-exploring-humanism-in-the-art-of-chuck-sperry/
LOCATION:Fort Wayne Museum of Art\, Indiana\, 311 E Main Street\, Fort Wayne\, IN\, 46802\, United States
CATEGORIES:Art
ATTACH;FMTTYPE=image/png:https://moonaliceposters.com/wp-content/uploads/2018/07/chuck-sperry-fwma.png
END:VEVENT
BEGIN:VEVENT
DTSTART;VALUE=DATE:20180915
DTEND;VALUE=DATE:20181016
DTSTAMP:20260422T074356
CREATED:20180914T223348Z
LAST-MODIFIED:20181004T233755Z
UID:24671-1536969600-1539647999@moonaliceposters.com
SUMMARY:Family Devalues: A Poster Show
DESCRIPTION:Haight Street Art Center presents\, Family Devalues: A Poster Show\, with artists\, Jermaine Rogers\, Marq Spusta\, Miles Tsang and Zoltron. \nIn a world of chaos and uncertainty\, where legends pass into the unknown and orange tyrants rule the world\, four prolific artist’s futures depend on their collaborative abilities and creative fortitude\, to combat the evils of the universe by manifesting hand printed parchments containing knife-brandishing bunnies\, fungi-laiden visionary landscapes\, fantastic ethereal spirit animals\, and pony-tail wielding nuclear-reactive skeleton girls. \nTheir judgment\, loyalty and courage\, along with lots of silkscreen posters and other such creative endeavors\, will be on full display. Be prepared to immerse yourself in a world of Family Devalues… Screen Prints\, Gig Posters\, Original Art\, Rare Designer Toys\, Street Art and Coin Operated Machinery\, Exclusive Items\, Defaced Rarities and Unannounced Treasures. Schmooze with like-minded individuals\, lose your mind to the great unknown\, and eat lots of Cheese and Crackers. \nExclusive\, limited edition\, artist-signed handbills\, printed on-site\, will be given to the first 50 people in the door. A life-size wax statue of Miles Tsang may or may not be available for VIP dinner parties\, and 75%-100% of artists will be in attendance. \nOpening Reception: Saturday\, September 15th from 7:00pm to 9:00pm\nRead More
URL:https://moonaliceposters.com/event/family-devalues-a-poster-show/
LOCATION:Haight Street Art Center\, San Francisco\, CA\, 215 Haight St\, San Francisco\, CA\, 94102\, United States
CATEGORIES:Art
ATTACH;FMTTYPE=image/jpeg:https://moonaliceposters.com/wp-content/uploads/2018/09/hsac-family-devalues.jpg
END:VEVENT
BEGIN:VEVENT
DTSTART;VALUE=DATE:20180801
DTEND;VALUE=DATE:20181001
DTSTAMP:20260422T074356
CREATED:20180723T225217Z
LAST-MODIFIED:20180928T171038Z
UID:24500-1533081600-1538351999@moonaliceposters.com
SUMMARY:Haight Street Art Center presents Lee Conklin: 50 Years of Psychedelic Art
DESCRIPTION:Opening Reception: August 1\, 2018 from 7:00 – 9:00pm \nThroughout its remarkable 50-year span\, Lee Conklin’s career has been well regarded as an essential contribution to the psychedelic poster art movement. Well known for imaginative vision and inventive lettering\, this work demands and rewards prolonged\, patient exploration. These posters often offer voyages—visual trips—containing hidden messages\, elements and value that reveal gradually and perhaps unintentionally. According to Conklin\, “I just start drawing … and sometimes it turns into something.” \n\n		\n		\n			\n				\n			\n			\n				\n			\n			\n				\n			\n			\n				\n			\n		\n \nToday\, Lee Conklin successfully maintains the freehand ethos of his established style but fuses it with the possibilities inherent in digital technologies. Not retro-psychedelic\, this is contemporary psychedelic art of the highest order. \nExhibit runs through September 30\, 2018.
URL:https://moonaliceposters.com/event/haight-street-art-center-presents-lee-conklin-50-years-of-psychedelic-art/
LOCATION:Haight Street Art Center\, San Francisco\, CA\, 215 Haight St\, San Francisco\, CA\, 94102\, United States
CATEGORIES:Art
ATTACH;FMTTYPE=image/jpeg:https://moonaliceposters.com/wp-content/uploads/2018/07/lee-conklin-haight-street-art-center.jpg
END:VEVENT
BEGIN:VEVENT
DTSTART;TZID=America/Los_Angeles:20180407T180000
DTEND;TZID=America/Los_Angeles:20180428T210000
DTSTAMP:20260422T074356
CREATED:20180320T171905Z
LAST-MODIFIED:20180508T203914Z
UID:23622-1523124000-1524949200@moonaliceposters.com
SUMMARY:Heaven of Many a Tangled Hue solo art show by Chuck Sperry
DESCRIPTION:Spoke SF is pleased to present “Heaven of Many a Tangled Hue” – a solo show by San Francisco-based screen print master Chuck Sperry. \nCheck out the Spoke SF blog for updates on the show\, available work and more. \nKid Friendly Event
URL:https://moonaliceposters.com/event/heaven-of-many-a-tangled-hue-a-solo-show-by-chuck-sperry/
LOCATION:Spoke Art\, San Francisco\, CA\, Spoke Art\, San Francisco\, CA\, 94109\, United States
CATEGORIES:Art
ATTACH;FMTTYPE=image/jpeg:https://moonaliceposters.com/wp-content/uploads/2018/03/2018-04-chuck-sperry-spoke-sf-heaven-back.jpg
ORGANIZER;CN="Spoke Art":MAILTO:SF@spoke-art.com
END:VEVENT
END:VCALENDAR